Package: qPLEXanalyzer Version: 1.16.1 Command: F:\biocbuild\bbs-3.16-bioc\R\bin\R.exe CMD check --no-multiarch --install=check:qPLEXanalyzer.install-out.txt --library=F:\biocbuild\bbs-3.16-bioc\R\library --no-vignettes --timings qPLEXanalyzer_1.16.1.tar.gz StartedAt: 2023-04-11 04:50:48 -0400 (Tue, 11 Apr 2023) EndedAt: 2023-04-11 04:53:29 -0400 (Tue, 11 Apr 2023) EllapsedTime: 161.6 seconds RetCode: 0 Status: OK CheckDir: qPLEXanalyzer.Rcheck Warnings: 0