Package: pvca Version: 1.38.0 Command: chmod a+r pvca -R && F:\biocbuild\bbs-3.16-bioc\R\bin\R.exe CMD build --keep-empty-dirs --no-resave-data pvca StartedAt: 2023-04-10 20:48:18 -0400 (Mon, 10 Apr 2023) EndedAt: 2023-04-10 20:48:43 -0400 (Mon, 10 Apr 2023) EllapsedTime: 25.0 seconds RetCode: 0 Status: OK PackageFile: pvca_1.38.0.tar.gz PackageFileSize: 109.4 KiB