Package: pvca Version: 1.38.0 Command: /Library/Frameworks/R.framework/Resources/bin/R CMD check --install=check:pvca.install-out.txt --library=/Library/Frameworks/R.framework/Resources/library --no-vignettes --timings pvca_1.38.0.tar.gz StartedAt: 2023-04-10 22:00:39 -0400 (Mon, 10 Apr 2023) EndedAt: 2023-04-10 22:01:47 -0400 (Mon, 10 Apr 2023) EllapsedTime: 67.9 seconds RetCode: 0 Status: OK CheckDir: pvca.Rcheck Warnings: 0