Package: protGear Version: 1.2.0 Command: rm -rf protGear.buildbin-libdir && mkdir protGear.buildbin-libdir && F:\biocbuild\bbs-3.16-bioc\R\bin\R.exe CMD INSTALL --build --library=protGear.buildbin-libdir protGear_1.2.0.tar.gz StartedAt: 2023-04-11 08:32:38 -0400 (Tue, 11 Apr 2023) EndedAt: 2023-04-11 08:33:14 -0400 (Tue, 11 Apr 2023) EllapsedTime: 35.9 seconds RetCode: 0 Status: OK PackageFile: protGear_1.2.0.zip PackageFileSize: 1.826 MiB