Package: prebs Version: 1.38.0 Command: chmod a+r prebs -R && F:\biocbuild\bbs-3.16-bioc\R\bin\R.exe CMD build --keep-empty-dirs --no-resave-data prebs StartedAt: 2023-04-10 20:43:59 -0400 (Mon, 10 Apr 2023) EndedAt: 2023-04-10 20:47:26 -0400 (Mon, 10 Apr 2023) EllapsedTime: 207.1 seconds RetCode: 0 Status: OK PackageFile: prebs_1.38.0.tar.gz PackageFileSize: 145.7 KiB