Package: prebs Version: 1.38.0 Command: rm -rf prebs.buildbin-libdir && mkdir prebs.buildbin-libdir && F:\biocbuild\bbs-3.16-bioc\R\bin\R.exe CMD INSTALL --build --library=prebs.buildbin-libdir prebs_1.38.0.tar.gz StartedAt: 2023-04-11 08:31:24 -0400 (Tue, 11 Apr 2023) EndedAt: 2023-04-11 08:32:04 -0400 (Tue, 11 Apr 2023) EllapsedTime: 40.1 seconds RetCode: 0 Status: OK PackageFile: prebs_1.38.0.zip PackageFileSize: 254.7 KiB