############################################################################## ############################################################################## ### ### Running command: ### ### /Library/Frameworks/R.framework/Resources/bin/R CMD build --keep-empty-dirs --no-resave-data prebs ### ############################################################################## ############################################################################## * checking for file ‘prebs/DESCRIPTION’ ... OK * preparing ‘prebs’: * checking DESCRIPTION meta-information ... OK * installing the package to build vignettes ----------------------------------- ERROR: dependencies ‘affy’, ‘RPA’ are not available for package ‘prebs’ * removing ‘/private/tmp/Rtmp2ryAA2/Rinst181a35fe1470/prebs’ ----------------------------------- ERROR: package installation failed