Package: pqsfinder Version: 2.14.1 Command: rm -rf pqsfinder.buildbin-libdir && mkdir pqsfinder.buildbin-libdir && F:\biocbuild\bbs-3.16-bioc\R\bin\R.exe CMD INSTALL --build --library=pqsfinder.buildbin-libdir pqsfinder_2.14.1.tar.gz StartedAt: 2023-04-11 08:31:21 -0400 (Tue, 11 Apr 2023) EndedAt: 2023-04-11 08:32:14 -0400 (Tue, 11 Apr 2023) EllapsedTime: 53.2 seconds RetCode: 0 Status: OK PackageFile: pqsfinder_2.14.1.zip PackageFileSize: 1.288 MiB