Package: polyester Version: 1.33.0 Command: rm -rf polyester.buildbin-libdir && mkdir polyester.buildbin-libdir && /Users/biocbuild/BBS/utils/build-universal.sh polyester_1.33.0.tar.gz /Library/Frameworks/R.framework/Resources/bin/R polyester.buildbin-libdir StartedAt: 2022-07-07 08:46:09 -0400 (Thu, 07 Jul 2022) EndedAt: 2022-07-07 08:46:32 -0400 (Thu, 07 Jul 2022) EllapsedTime: 23.2 seconds RetCode: 0 Status: OK PackageFile: polyester_1.33.0.tgz PackageFileSize: 1.936 MiB