Package: phenoTest Version: 1.46.0 Command: /home/biocbuild/bbs-3.16-bioc/R/bin/R CMD check --install=check:phenoTest.install-out.txt --library=/home/biocbuild/bbs-3.16-bioc/R/site-library --timings phenoTest_1.46.0.tar.gz StartedAt: 2023-04-10 22:52:02 -0400 (Mon, 10 Apr 2023) EndedAt: 2023-04-10 22:59:35 -0400 (Mon, 10 Apr 2023) EllapsedTime: 453.3 seconds RetCode: 0 Status: WARNINGS CheckDir: phenoTest.Rcheck Warnings: 1