Package: phenoTest Version: 1.46.0 Command: rm -rf phenoTest.buildbin-libdir && mkdir phenoTest.buildbin-libdir && /Users/biocbuild/BBS/utils/build-universal.sh phenoTest_1.46.0.tar.gz /Library/Frameworks/R.framework/Resources/bin/R phenoTest.buildbin-libdir StartedAt: 2023-04-10 23:56:52 -0400 (Mon, 10 Apr 2023) EndedAt: 2023-04-10 23:57:35 -0400 (Mon, 10 Apr 2023) EllapsedTime: 43.2 seconds RetCode: 0 Status: OK PackageFile: phenoTest_1.46.0.tgz PackageFileSize: 1.924 MiB