Package: phemd Version: 1.14.1 Command: /Library/Frameworks/R.framework/Resources/bin/R CMD INSTALL phemd StartedAt: 2023-04-10 15:20:48 -0400 (Mon, 10 Apr 2023) EndedAt: 2023-04-10 15:21:40 -0400 (Mon, 10 Apr 2023) EllapsedTime: 52.1 seconds RetCode: 0 Status: OK