Package: phemd Version: 1.14.1 Command: /Library/Frameworks/R.framework/Resources/bin/R CMD check --install=check:phemd.install-out.txt --library=/Library/Frameworks/R.framework/Resources/library --no-vignettes --timings phemd_1.14.1.tar.gz StartedAt: 2023-04-10 21:49:41 -0400 (Mon, 10 Apr 2023) EndedAt: 2023-04-10 21:55:44 -0400 (Mon, 10 Apr 2023) EllapsedTime: 362.9 seconds RetCode: 0 Status: WARNINGS CheckDir: phemd.Rcheck Warnings: 1