Package: pandaR Version: 1.30.0 Command: F:\biocbuild\bbs-3.16-bioc\R\bin\R.exe CMD check --no-multiarch --install=check:pandaR.install-out.txt --library=F:\biocbuild\bbs-3.16-bioc\R\library --no-vignettes --timings pandaR_1.30.0.tar.gz StartedAt: 2023-04-11 04:18:37 -0400 (Tue, 11 Apr 2023) EndedAt: 2023-04-11 04:20:14 -0400 (Tue, 11 Apr 2023) EllapsedTime: 96.8 seconds RetCode: 0 Status: WARNINGS CheckDir: pandaR.Rcheck Warnings: 2