Package: oncoscanR Version: 1.0.0 Command: chmod a+r oncoscanR -R && F:\biocbuild\bbs-3.16-bioc\R\bin\R.exe CMD build --keep-empty-dirs --no-resave-data oncoscanR StartedAt: 2023-04-10 20:17:35 -0400 (Mon, 10 Apr 2023) EndedAt: 2023-04-10 20:20:02 -0400 (Mon, 10 Apr 2023) EllapsedTime: 147.1 seconds RetCode: 0 Status: OK PackageFile: oncoscanR_1.0.0.tar.gz PackageFileSize: 984.5 KiB