Package: oncoscanR Version: 1.0.0 Command: rm -rf oncoscanR.buildbin-libdir && mkdir oncoscanR.buildbin-libdir && /Users/biocbuild/BBS/utils/build-universal.sh oncoscanR_1.0.0.tar.gz /Library/Frameworks/R.framework/Resources/bin/R oncoscanR.buildbin-libdir StartedAt: 2023-04-10 23:55:34 -0400 (Mon, 10 Apr 2023) EndedAt: 2023-04-10 23:55:50 -0400 (Mon, 10 Apr 2023) EllapsedTime: 16.1 seconds RetCode: 0 Status: OK PackageFile: oncoscanR_1.0.0.tgz PackageFileSize: 1.03 MiB