Package: oncomix Version: 1.19.0 Command: /Library/Frameworks/R.framework/Resources/bin/R CMD build --keep-empty-dirs --no-resave-data oncomix StartedAt: 2022-07-07 01:28:38 -0400 (Thu, 07 Jul 2022) EndedAt: 2022-07-07 01:29:21 -0400 (Thu, 07 Jul 2022) EllapsedTime: 43.2 seconds RetCode: 0 Status: OK PackageFile: oncomix_1.19.0.tar.gz PackageFileSize: 2.532 MiB