Package: omicsPrint Version: 1.17.0 Command: /Library/Frameworks/R.framework/Resources/bin/R CMD build --keep-empty-dirs --no-resave-data omicsPrint StartedAt: 2022-07-07 01:20:49 -0400 (Thu, 07 Jul 2022) EndedAt: 2022-07-07 01:22:14 -0400 (Thu, 07 Jul 2022) EllapsedTime: 85.1 seconds RetCode: 0 Status: OK PackageFile: omicsPrint_1.17.0.tar.gz PackageFileSize: 4.242 MiB