Package: occugene Version: 1.58.0 Command: /home/biocbuild/bbs-3.16-bioc/R/bin/R CMD check --install=check:occugene.install-out.txt --library=/home/biocbuild/bbs-3.16-bioc/R/site-library --timings occugene_1.58.0.tar.gz StartedAt: 2023-04-10 22:24:57 -0400 (Mon, 10 Apr 2023) EndedAt: 2023-04-10 22:25:18 -0400 (Mon, 10 Apr 2023) EllapsedTime: 20.7 seconds RetCode: 0 Status: OK CheckDir: occugene.Rcheck Warnings: 0