Package: nondetects Version: 2.28.0 Command: F:\biocbuild\bbs-3.16-bioc\R\bin\R.exe CMD check --no-multiarch --install=check:nondetects.install-out.txt --library=F:\biocbuild\bbs-3.16-bioc\R\library --no-vignettes --timings nondetects_2.28.0.tar.gz StartedAt: 2023-04-11 03:59:17 -0400 (Tue, 11 Apr 2023) EndedAt: 2023-04-11 04:06:37 -0400 (Tue, 11 Apr 2023) EllapsedTime: 439.6 seconds RetCode: 0 Status: OK CheckDir: nondetects.Rcheck Warnings: 0