Package: nondetects Version: 2.28.0 Command: chmod a+r nondetects -R && F:\biocbuild\bbs-3.16-bioc\R\bin\R.exe CMD build --keep-empty-dirs --no-resave-data nondetects StartedAt: 2023-04-10 20:12:39 -0400 (Mon, 10 Apr 2023) EndedAt: 2023-04-10 20:15:21 -0400 (Mon, 10 Apr 2023) EllapsedTime: 162.7 seconds RetCode: 0 Status: OK PackageFile: nondetects_2.28.0.tar.gz PackageFileSize: 111.9 KiB