Package: nnNorm Version: 2.62.0 Command: /Library/Frameworks/R.framework/Resources/bin/R CMD INSTALL nnNorm StartedAt: 2023-04-10 15:05:47 -0400 (Mon, 10 Apr 2023) EndedAt: 2023-04-10 15:06:20 -0400 (Mon, 10 Apr 2023) EllapsedTime: 32.8 seconds RetCode: 0 Status: OK