Package: ngsReports Version: 1.13.1 Command: /Library/Frameworks/R.framework/Resources/bin/R CMD INSTALL ngsReports StartedAt: 2022-07-10 17:46:56 -0400 (Sun, 10 Jul 2022) EndedAt: 2022-07-10 17:47:41 -0400 (Sun, 10 Jul 2022) EllapsedTime: 45.3 seconds RetCode: 0 Status: OK