Package: netprioR Version: 1.24.0 Command: chmod a+r netprioR -R && F:\biocbuild\bbs-3.16-bioc\R\bin\R.exe CMD build --keep-empty-dirs --no-resave-data netprioR StartedAt: 2023-04-10 20:10:52 -0400 (Mon, 10 Apr 2023) EndedAt: 2023-04-10 20:11:31 -0400 (Mon, 10 Apr 2023) EllapsedTime: 39.0 seconds RetCode: 0 Status: OK PackageFile: netprioR_1.24.0.tar.gz PackageFileSize: 418.6 KiB