Package: netSmooth Version: 1.18.0 Command: /Library/Frameworks/R.framework/Resources/bin/R CMD check --install=check:netSmooth.install-out.txt --library=/Library/Frameworks/R.framework/Resources/library --no-vignettes --timings netSmooth_1.18.0.tar.gz StartedAt: 2023-04-10 21:32:19 -0400 (Mon, 10 Apr 2023) EndedAt: 2023-04-10 21:38:01 -0400 (Mon, 10 Apr 2023) EllapsedTime: 341.8 seconds RetCode: 0 Status: OK CheckDir: netSmooth.Rcheck Warnings: 0