Package: multiGSEA Version: 1.7.1 Command: /Library/Frameworks/R.framework/Resources/bin/R CMD build --keep-empty-dirs --no-resave-data multiGSEA StartedAt: 2022-07-07 00:48:08 -0400 (Thu, 07 Jul 2022) EndedAt: 2022-07-07 00:55:19 -0400 (Thu, 07 Jul 2022) EllapsedTime: 430.5 seconds RetCode: 0 Status: OK PackageFile: multiGSEA_1.7.1.tar.gz PackageFileSize: 935.3 KiB