Package: monocle Version: 2.26.0 Command: rm -rf monocle.buildbin-libdir && mkdir monocle.buildbin-libdir && F:\biocbuild\bbs-3.16-bioc\R\bin\R.exe CMD INSTALL --build --library=monocle.buildbin-libdir monocle_2.26.0.tar.gz StartedAt: 2023-04-11 08:20:30 -0400 (Tue, 11 Apr 2023) EndedAt: 2023-04-11 08:21:16 -0400 (Tue, 11 Apr 2023) EllapsedTime: 46.1 seconds RetCode: 0 Status: OK PackageFile: monocle_2.26.0.zip PackageFileSize: 1.679 MiB