Package: mogsa Version: 1.32.0 Command: F:\biocbuild\bbs-3.16-bioc\R\bin\R.exe CMD check --no-multiarch --install=check:mogsa.install-out.txt --library=F:\biocbuild\bbs-3.16-bioc\R\library --no-vignettes --timings mogsa_1.32.0.tar.gz StartedAt: 2023-04-11 03:33:12 -0400 (Tue, 11 Apr 2023) EndedAt: 2023-04-11 03:35:49 -0400 (Tue, 11 Apr 2023) EllapsedTime: 157.0 seconds RetCode: 0 Status: OK CheckDir: mogsa.Rcheck Warnings: 0