Package: microbiome Version: 1.20.0 Command: F:\biocbuild\bbs-3.16-bioc\R\bin\R.exe CMD INSTALL microbiome StartedAt: 2023-04-10 16:09:31 -0400 (Mon, 10 Apr 2023) EndedAt: 2023-04-10 16:10:08 -0400 (Mon, 10 Apr 2023) EllapsedTime: 36.6 seconds RetCode: 0 Status: OK