Package: methylCC Version: 1.12.0 Command: /home/biocbuild/bbs-3.16-bioc/R/bin/R CMD check --install=check:methylCC.install-out.txt --library=/home/biocbuild/bbs-3.16-bioc/R/site-library --timings methylCC_1.12.0.tar.gz StartedAt: 2023-04-10 21:52:14 -0400 (Mon, 10 Apr 2023) EndedAt: 2023-04-10 22:03:07 -0400 (Mon, 10 Apr 2023) EllapsedTime: 653.9 seconds RetCode: 0 Status: OK CheckDir: methylCC.Rcheck Warnings: 0