Package: methylCC Version: 1.12.0 Command: /Library/Frameworks/R.framework/Resources/bin/R CMD build --keep-empty-dirs --no-resave-data methylCC StartedAt: 2023-04-10 17:04:40 -0400 (Mon, 10 Apr 2023) EndedAt: 2023-04-10 17:08:10 -0400 (Mon, 10 Apr 2023) EllapsedTime: 210.6 seconds RetCode: 0 Status: OK PackageFile: methylCC_1.12.0.tar.gz PackageFileSize: 4.348 MiB