git_url: https://git.bioconductor.org/packages/metagene2 git_branch: RELEASE_3_16 git_last_commit: 1b39327 git_last_commit_date: 2022-11-01 11:19:52 -0400 (Tue, 01 Nov 2022) Package: metagene2 Version: 1.14.0 Maintainer: Eric Fournier MaintainerEmail: ericfournier2 at yahoo.ca