Package: mdqc Version: 1.60.0 Command: /home/biocbuild/bbs-3.16-bioc/R/bin/R CMD check --install=check:mdqc.install-out.txt --library=/home/biocbuild/bbs-3.16-bioc/R/site-library --timings mdqc_1.60.0.tar.gz StartedAt: 2023-04-10 21:44:55 -0400 (Mon, 10 Apr 2023) EndedAt: 2023-04-10 21:45:17 -0400 (Mon, 10 Apr 2023) EllapsedTime: 22.0 seconds RetCode: 0 Status: OK CheckDir: mdqc.Rcheck Warnings: 0