Package: mdqc Version: 1.60.0 Command: /Library/Frameworks/R.framework/Resources/bin/R CMD build --keep-empty-dirs --no-resave-data mdqc StartedAt: 2023-04-10 17:01:40 -0400 (Mon, 10 Apr 2023) EndedAt: 2023-04-10 17:01:49 -0400 (Mon, 10 Apr 2023) EllapsedTime: 9.1 seconds RetCode: 0 Status: OK PackageFile: mdqc_1.60.0.tar.gz PackageFileSize: 257.8 KiB