Package: mdp Version: 1.17.0 Command: rm -rf mdp.buildbin-libdir && mkdir mdp.buildbin-libdir && /Users/biocbuild/BBS/utils/build-universal.sh mdp_1.17.0.tar.gz /Library/Frameworks/R.framework/Resources/bin/R mdp.buildbin-libdir StartedAt: 2022-07-07 08:22:37 -0400 (Thu, 07 Jul 2022) EndedAt: 2022-07-07 08:22:46 -0400 (Thu, 07 Jul 2022) EllapsedTime: 8.7 seconds RetCode: 0 Status: OK PackageFile: mdp_1.17.0.tgz PackageFileSize: 4.238 MiB