Package: macat Version: 1.71.0 Command: rm -rf macat.buildbin-libdir && mkdir macat.buildbin-libdir && /Users/biocbuild/BBS/utils/build-universal.sh macat_1.71.0.tar.gz /Library/Frameworks/R.framework/Resources/bin/R macat.buildbin-libdir StartedAt: 2022-07-07 08:21:00 -0400 (Thu, 07 Jul 2022) EndedAt: 2022-07-07 08:21:25 -0400 (Thu, 07 Jul 2022) EllapsedTime: 24.9 seconds RetCode: 0 Status: OK PackageFile: macat_1.71.0.tgz PackageFileSize: 1.032 MiB