Package: mAPKL Version: 1.28.0 Command: chmod a+r mAPKL -R && F:\biocbuild\bbs-3.16-bioc\R\bin\R.exe CMD build --keep-empty-dirs --no-resave-data mAPKL StartedAt: 2023-04-10 19:33:45 -0400 (Mon, 10 Apr 2023) EndedAt: 2023-04-10 19:36:12 -0400 (Mon, 10 Apr 2023) EllapsedTime: 147.5 seconds RetCode: 0 Status: OK PackageFile: mAPKL_1.28.0.tar.gz PackageFileSize: 1.954 MiB