Package: mAPKL Version: 1.28.0 Command: /Library/Frameworks/R.framework/Resources/bin/R CMD build --keep-empty-dirs --no-resave-data mAPKL StartedAt: 2023-04-10 16:59:43 -0400 (Mon, 10 Apr 2023) EndedAt: 2023-04-10 17:01:51 -0400 (Mon, 10 Apr 2023) EllapsedTime: 128.6 seconds RetCode: 0 Status: OK PackageFile: mAPKL_1.28.0.tar.gz PackageFileSize: 1.952 MiB