Package: impute Version: 1.71.0 Command: rm -rf impute.buildbin-libdir && mkdir impute.buildbin-libdir && /Users/biocbuild/BBS/utils/build-universal.sh impute_1.71.0.tar.gz /Library/Frameworks/R.framework/Resources/bin/R impute.buildbin-libdir StartedAt: 2022-07-07 08:13:16 -0400 (Thu, 07 Jul 2022) EndedAt: 2022-07-07 08:13:25 -0400 (Thu, 07 Jul 2022) EllapsedTime: 8.6 seconds RetCode: 1 Status: ERROR PackageFile: None PackageFileSize: NA