Package: imcRtools Version: 1.4.2 Command: F:\biocbuild\bbs-3.16-bioc\R\bin\R.exe CMD check --no-multiarch --install=check:imcRtools.install-out.txt --library=F:\biocbuild\bbs-3.16-bioc\R\library --no-vignettes --timings imcRtools_1.4.2.tar.gz StartedAt: 2023-04-11 02:28:36 -0400 (Tue, 11 Apr 2023) EndedAt: 2023-04-11 02:51:07 -0400 (Tue, 11 Apr 2023) EllapsedTime: 1351.0 seconds RetCode: 0 Status: OK CheckDir: imcRtools.Rcheck Warnings: 0