Package: iGC Version: 1.28.0 Command: F:\biocbuild\bbs-3.16-bioc\R\bin\R.exe CMD INSTALL iGC StartedAt: 2023-04-10 15:31:47 -0400 (Mon, 10 Apr 2023) EndedAt: 2023-04-10 15:32:07 -0400 (Mon, 10 Apr 2023) EllapsedTime: 20.3 seconds RetCode: 0 Status: OK