Package: iGC Version: 1.28.0 Command: chmod a+r iGC -R && F:\biocbuild\bbs-3.16-bioc\R\bin\R.exe CMD build --keep-empty-dirs --no-resave-data iGC StartedAt: 2023-04-10 19:18:25 -0400 (Mon, 10 Apr 2023) EndedAt: 2023-04-10 19:18:56 -0400 (Mon, 10 Apr 2023) EllapsedTime: 31.3 seconds RetCode: 0 Status: OK PackageFile: iGC_1.28.0.tar.gz PackageFileSize: 2.95 MiB