Package: gtrellis Version: 1.29.0 Command: rm -rf gtrellis.buildbin-libdir && mkdir gtrellis.buildbin-libdir && /Users/biocbuild/BBS/utils/build-universal.sh gtrellis_1.29.0.tar.gz /Library/Frameworks/R.framework/Resources/bin/R gtrellis.buildbin-libdir StartedAt: 2022-07-07 08:09:23 -0400 (Thu, 07 Jul 2022) EndedAt: 2022-07-07 08:09:50 -0400 (Thu, 07 Jul 2022) EllapsedTime: 26.2 seconds RetCode: 0 Status: OK PackageFile: gtrellis_1.29.0.tgz PackageFileSize: 2.013 MiB