Package: goProfiles Version: 1.60.0 Command: F:\biocbuild\bbs-3.16-bioc\R\bin\R.exe CMD INSTALL goProfiles StartedAt: 2023-04-10 16:01:06 -0400 (Mon, 10 Apr 2023) EndedAt: 2023-04-10 16:01:34 -0400 (Mon, 10 Apr 2023) EllapsedTime: 28.4 seconds RetCode: 0 Status: OK