Package: goProfiles Version: 1.60.0 Command: rm -rf goProfiles.buildbin-libdir && mkdir goProfiles.buildbin-libdir && F:\biocbuild\bbs-3.16-bioc\R\bin\R.exe CMD INSTALL --build --library=goProfiles.buildbin-libdir goProfiles_1.60.0.tar.gz StartedAt: 2023-04-11 08:05:47 -0400 (Tue, 11 Apr 2023) EndedAt: 2023-04-11 08:06:10 -0400 (Tue, 11 Apr 2023) EllapsedTime: 23.0 seconds RetCode: 0 Status: OK PackageFile: goProfiles_1.60.0.zip PackageFileSize: 508.2 KiB