Package: goProfiles Version: 1.59.0 Command: rm -rf goProfiles.buildbin-libdir && mkdir goProfiles.buildbin-libdir && /Users/biocbuild/BBS/utils/build-universal.sh goProfiles_1.59.0.tar.gz /Library/Frameworks/R.framework/Resources/bin/R goProfiles.buildbin-libdir StartedAt: 2022-07-07 08:07:08 -0400 (Thu, 07 Jul 2022) EndedAt: 2022-07-07 08:07:40 -0400 (Thu, 07 Jul 2022) EllapsedTime: 31.8 seconds RetCode: 0 Status: OK PackageFile: goProfiles_1.59.0.tgz PackageFileSize: 499.6 KiB