Package: gespeR Version: 1.30.0 Command: F:\biocbuild\bbs-3.16-bioc\R\bin\R.exe CMD check --no-multiarch --install=check:gespeR.install-out.txt --library=F:\biocbuild\bbs-3.16-bioc\R\library --no-vignettes --timings gespeR_1.30.0.tar.gz StartedAt: 2023-04-11 01:56:57 -0400 (Tue, 11 Apr 2023) EndedAt: 2023-04-11 02:01:19 -0400 (Tue, 11 Apr 2023) EllapsedTime: 261.4 seconds RetCode: 0 Status: WARNINGS CheckDir: gespeR.Rcheck Warnings: 1