Package: flowViz Version: 1.61.1 Command: rm -rf flowViz.buildbin-libdir && mkdir flowViz.buildbin-libdir && /Users/biocbuild/BBS/utils/build-universal.sh flowViz_1.61.1.tar.gz /Library/Frameworks/R.framework/Resources/bin/R flowViz.buildbin-libdir StartedAt: 2022-07-07 07:58:33 -0400 (Thu, 07 Jul 2022) EndedAt: 2022-07-07 07:58:51 -0400 (Thu, 07 Jul 2022) EllapsedTime: 17.3 seconds RetCode: 0 Status: OK PackageFile: flowViz_1.61.1.tgz PackageFileSize: 1.165 MiB