Package: flowStats Version: 4.10.0 Command: rm -rf flowStats.buildbin-libdir && mkdir flowStats.buildbin-libdir && F:\biocbuild\bbs-3.16-bioc\R\bin\R.exe CMD INSTALL --build --library=flowStats.buildbin-libdir flowStats_4.10.0.tar.gz StartedAt: 2023-04-11 08:00:43 -0400 (Tue, 11 Apr 2023) EndedAt: 2023-04-11 08:01:31 -0400 (Tue, 11 Apr 2023) EllapsedTime: 48.0 seconds RetCode: 0 Status: OK PackageFile: flowStats_4.10.0.zip PackageFileSize: 11.67 MiB