Package: fastreeR Version: 1.1.5 Command: /Library/Frameworks/R.framework/Resources/bin/R CMD INSTALL fastreeR StartedAt: 2022-07-10 15:49:01 -0400 (Sun, 10 Jul 2022) EndedAt: 2022-07-10 15:49:05 -0400 (Sun, 10 Jul 2022) EllapsedTime: 3.8 seconds RetCode: 1 Status: ERROR